Workbook

Sheet Data
A1: Date | B1: Region | C1: Item | D1: Qty | E1: Unit price | F1: Total
A2: 46266 | B2: Quebec | C2: Notebook | D2: 7 | E2: 9 | F2: =D2*E2
A3: 46266 | B3: Ontario | C3: Tote bag | D3: 9 | E3: 24 | F3: =D3*E3
A4: 46267 | B4: BC | C4: Tote bag | D4: 10 | E4: 24 | F4: =D4*E4
A5: 46267 | B5: Quebec | C5: Tote bag | D5: 1 | E5: 24 | F5: =D5*E5
A6: 46268 | B6: Alberta | C6: Tote bag | D6: 7 | E6: 24 | F6: =D6*E6
A7: 46268 | B7: Quebec | C7: Tote bag | D7: 2 | E7: 24 | F7: =D7*E7
A8: 46269 | B8: Ontario | C8: Hoodie | D8: 10 | E8: 55 | F8: =D8*E8
A9: 46269 | B9: Quebec | C9: Tote bag | D9: 11 | E9: 24 | F9: =D9*E9
A10: 46270 | B10: Alberta | C10: Tote bag | D10: 1 | E10: 24 | F10: =D10*E10
A11: 46270 | B11: Ontario | C11: Mug | D11: 9 | E11: 14.5 | F11: =D11*E11
A12: 46271 | B12: BC | C12: Mug | D12: 7 | E12: 14.5 | F12: =D12*E12
A13: 46271 | B13: Ontario | C13: Mug | D13: 10 | E13: 14.5 | F13: =D13*E13
... A61: 46295 | B61: Alberta | C61: Notebook | D61: 2 | E61: 9 | F61: =D61*E61

Sheet Summary
A1: Region | B1: Orders | C1: Units | D1: Revenue
A2: Alberta | B2: =COUNTIF(Data!B2:B61,A2) | C2: =SUMIF(Data!B2:B61,A2,Data!D2:D61) | D2: =SUMIF(Data!B2:B61,A2,Data!F2:F61)
A3: BC | B3: =COUNTIF(Data!B2:B61,A3) | C3: =SUMIF(Data!B2:B61,A3,Data!D2:D61) | D3: =SUMIF(Data!B2:B61,A3,Data!F2:F61)
A4: Ontario | B4: =COUNTIF(Data!B2:B61,A4) | C4: =SUMIF(Data!B2:B61,A4,Data!D2:D61) | D4: =SUMIF(Data!B2:B61,A4,Data!F2:F61)
A5: Quebec | B5: =COUNTIF(Data!B2:B61,A5) | C5: =SUMIF(Data!B2:B61,A5,Data!D2:D61) | D5: =SUMIF(Data!B2:B61,A5,Data!F2:F61)
A6: Total | B6: =SUM(B2:B5) | C6: =SUM(C2:C5) | D6: =SUM(D2:D5)
